BEGIN:VCALENDAR
VERSION:2.0
PRODID:-//wp-events-plugin.com//7.2.3.1//EN
TZID:America/Chicago
X-WR-TIMEZONE:America/Chicago
BEGIN:VEVENT
UID:19@sewivets.org
DTSTART;TZID=America/Chicago:20210531T093000
DTEND;TZID=America/Chicago:20210531T110000
DTSTAMP:20210505T212414Z
URL:https://sewivets.org/kavv/events/greenridge-cemetery/
SUMMARY:Greenridge Cemetery
DESCRIPTION:6604 7th Ave\, Kenosha\, WI 53143
CATEGORIES:Color Guard
END:VEVENT
BEGIN:VTIMEZONE
TZID:America/Chicago
X-LIC-LOCATION:America/Chicago
BEGIN:DAYLIGHT
DTSTART:20210314T030000
TZOFFSETFROM:-0600
TZOFFSETTO:-0500
TZNAME:CDT
END:DAYLIGHT
END:VTIMEZONE
END:VCALENDAR