BEGIN:VCALENDAR
VERSION:2.0
PRODID:-//wp-events-plugin.com//7.2.3.1//EN
TZID:America/Chicago
X-WR-TIMEZONE:America/Chicago
BEGIN:VEVENT
UID:6@sewivets.org
DTSTART;TZID=America/Chicago:20210412T163000
DTEND;TZID=America/Chicago:20210412T180000
DTSTAMP:20210412T143904Z
URL:https://sewivets.org/kavv/events/hg-kenosha-funeral-services-8266-sher
 idan/
SUMMARY:HG - Kenosha Funeral Services
DESCRIPTION:\n\n\n\nAddress: 8226 Sheridan Rd\, Kenosha\, WI 53143\n\n\n\n\
 n\n\nPhone: (262) 652-1943\n\n
CATEGORIES:Funerals
LOCATION:Kenosha Funeral Services & Crematory\, 8226 Sheridan Rd\, Kenosha\
 , WI\, 53143\, United States
X-APPLE-STRUCTURED-LOCATION;VALUE=URI;X-ADDRESS=8226 Sheridan Rd\, Kenosha\
 , WI\, 53143\, United States;X-APPLE-RADIUS=100;X-TITLE=Kenosha Funeral Se
 rvices & Crematory:geo:0,0
END:VEVENT
BEGIN:VTIMEZONE
TZID:America/Chicago
X-LIC-LOCATION:America/Chicago
BEGIN:DAYLIGHT
DTSTART:20210314T030000
TZOFFSETFROM:-0600
TZOFFSETTO:-0500
TZNAME:CDT
END:DAYLIGHT
END:VTIMEZONE
END:VCALENDAR