BEGIN:VCALENDAR
VERSION:2.0
PRODID:-//wp-events-plugin.com//7.2.3.1//EN
TZID:America/Chicago
X-WR-TIMEZONE:America/Chicago
BEGIN:VEVENT
UID:10@sewivets.org
DTSTART;TZID=America/Chicago:20210401T124500
DTEND;TZID=America/Chicago:20210401T134500
DTSTAMP:20210410T210245Z
URL:https://sewivets.org/kavv/events/hg-sunset-ridge/
SUMMARY:HG Sunset Ridge
DESCRIPTION:
CATEGORIES:Funerals
LOCATION:Sunset Ridge Memorial Park\, 4300 Green Bay Rd.\, Kenosha\, WI\, 5
 3144\, United States
X-APPLE-STRUCTURED-LOCATION;VALUE=URI;X-ADDRESS=4300 Green Bay Rd.\, Kenosh
 a\, WI\, 53144\, United States;X-APPLE-RADIUS=100;X-TITLE=Sunset Ridge Mem
 orial Park:geo:0,0
END:VEVENT
BEGIN:VTIMEZONE
TZID:America/Chicago
X-LIC-LOCATION:America/Chicago
BEGIN:DAYLIGHT
DTSTART:20210314T030000
TZOFFSETFROM:-0600
TZOFFSETTO:-0500
TZNAME:CDT
END:DAYLIGHT
END:VTIMEZONE
END:VCALENDAR