BEGIN:VCALENDAR
VERSION:2.0
PRODID:-//wp-events-plugin.com//7.2.3.1//EN
TZID:America/Chicago
X-WR-TIMEZONE:America/Chicago
BEGIN:VEVENT
UID:4@sewivets.org
DTSTART;TZID=America/Chicago:20210405T123000
DTEND;TZID=America/Chicago:20210405T133000
DTSTAMP:20210408T213607Z
URL:https://sewivets.org/kavv/events/honor-guard-funeral/
SUMMARY:HG - St George Cemetery
DESCRIPTION:St George Cemetery\n2909 Sheridan Rd\, Kenosha\, WI 53140\, Uni
 ted States
CATEGORIES:Funerals
LOCATION:St George Cemetery\, 2909 Sheridan Rd\, Kenosha\, WI\, 53140\, Uni
 ted States
X-APPLE-STRUCTURED-LOCATION;VALUE=URI;X-ADDRESS=2909 Sheridan Rd\, Kenosha\
 , WI\, 53140\, United States;X-APPLE-RADIUS=100;X-TITLE=St George Cemetery
 :geo:0,0
END:VEVENT
BEGIN:VTIMEZONE
TZID:America/Chicago
X-LIC-LOCATION:America/Chicago
BEGIN:DAYLIGHT
DTSTART:20210314T030000
TZOFFSETFROM:-0600
TZOFFSETTO:-0500
TZNAME:CDT
END:DAYLIGHT
END:VTIMEZONE
END:VCALENDAR