BEGIN:VCALENDAR
VERSION:2.0
PRODID:-//wp-events-plugin.com//7.2.3.1//EN
TZID:America/Chicago
X-WR-TIMEZONE:America/Chicago
BEGIN:VEVENT
UID:3@sewivets.org
DTSTART;TZID=America/Chicago:20210403T154500
DTEND;TZID=America/Chicago:20210403T164500
DTSTAMP:20210408T213541Z
URL:https://sewivets.org/kavv/events/honorguard-funeral/
SUMMARY:HG - Bruch Funeral Home
DESCRIPTION:Bruch Funeral Home\n3503 Roosevelt Rd\, Kenosha\, WI 53142\, Un
 ited States
CATEGORIES:Funerals
LOCATION:Bruch Funeral Home\, 3503 Roosevelt Rd\, Kenosha\, WI\, 53142\, Un
 ited States
X-APPLE-STRUCTURED-LOCATION;VALUE=URI;X-ADDRESS=3503 Roosevelt Rd\, Kenosha
 \, WI\, 53142\, United States;X-APPLE-RADIUS=100;X-TITLE=Bruch Funeral Hom
 e:geo:0,0
END:VEVENT
BEGIN:VTIMEZONE
TZID:America/Chicago
X-LIC-LOCATION:America/Chicago
BEGIN:DAYLIGHT
DTSTART:20210314T030000
TZOFFSETFROM:-0600
TZOFFSETTO:-0500
TZNAME:CDT
END:DAYLIGHT
END:VTIMEZONE
END:VCALENDAR