BEGIN:VCALENDAR
VERSION:2.0
PRODID:-//wp-events-plugin.com//7.2.3.1//EN
TZID:America/Chicago
X-WR-TIMEZONE:America/Chicago
BEGIN:VEVENT
UID:21@sewivets.org
DTSTART;TZID=America/Chicago:20210623T163000
DTEND;TZID=America/Chicago:20210623T173000
DTSTAMP:20210505T212703Z
URL:https://sewivets.org/kavv/events/hospice-alliance-kemper-center/
SUMMARY:Hospice Alliance - Kemper Center
DESCRIPTION:Brick Dedication\nKemper Center\n6501 3rd Ave\, Kenosha\, WI 53
 143\n\n+(262) 925-8040
CATEGORIES:Color Guard
END:VEVENT
BEGIN:VTIMEZONE
TZID:America/Chicago
X-LIC-LOCATION:America/Chicago
BEGIN:DAYLIGHT
DTSTART:20210314T030000
TZOFFSETFROM:-0600
TZOFFSETTO:-0500
TZNAME:CDT
END:DAYLIGHT
END:VTIMEZONE
END:VCALENDAR