BEGIN:VCALENDAR
VERSION:2.0
PRODID:-//wp-events-plugin.com//7.2.3.1//EN
TZID:America/Chicago
X-WR-TIMEZONE:America/Chicago
BEGIN:VEVENT
UID:20@sewivets.org
DTSTART;TZID=America/Chicago:20210531T113000
DTEND;TZID=America/Chicago:20210531T130000
DTSTAMP:20210505T212241Z
URL:https://sewivets.org/kavv/events/library-park/
SUMMARY:Library Park
DESCRIPTION:711 59th Pl\, Kenosha\, WI 53140\n(262) 653-4050
CATEGORIES:Color Guard
END:VEVENT
BEGIN:VTIMEZONE
TZID:America/Chicago
X-LIC-LOCATION:America/Chicago
BEGIN:DAYLIGHT
DTSTART:20210314T030000
TZOFFSETFROM:-0600
TZOFFSETTO:-0500
TZNAME:CDT
END:DAYLIGHT
END:VTIMEZONE
END:VCALENDAR