BEGIN:VCALENDAR
VERSION:2.0
PRODID:-//wp-events-plugin.com//7.2.3.1//EN
TZID:America/Chicago
X-WR-TIMEZONE:America/Chicago
BEGIN:VEVENT
UID:12@sewivets.org
DTSTART;TZID=America/Chicago:20210515T113000
DTEND;TZID=America/Chicago:20210515T123000
DTSTAMP:20210505T212005Z
URL:https://sewivets.org/kavv/events/mission-bbq-present-the-colors/
SUMMARY:Mission BBQ - Present the Colors
DESCRIPTION:6930 75th St\, Kenosha\, WI 53142\n(262) 649-9773\n\n11am - 9pm
CATEGORIES:Color Guard
END:VEVENT
BEGIN:VTIMEZONE
TZID:America/Chicago
X-LIC-LOCATION:America/Chicago
BEGIN:DAYLIGHT
DTSTART:20210314T030000
TZOFFSETFROM:-0600
TZOFFSETTO:-0500
TZNAME:CDT
END:DAYLIGHT
END:VTIMEZONE
END:VCALENDAR