BEGIN:VCALENDAR
VERSION:2.0
PRODID:-//wp-events-plugin.com//7.2.3.1//EN
TZID:America/Chicago
X-WR-TIMEZONE:America/Chicago
BEGIN:VEVENT
UID:8@sewivets.org
DTSTART;TZID=America/Chicago;VALUE=DATE:20210329
DTEND;TZID=America/Chicago;VALUE=DATE:20210330
DTSTAMP:20210410T202119Z
URL:https://sewivets.org/kavv/events/national-vietnam-war-veterans-day/
SUMMARY:National Vietnam War Veterans Day
DESCRIPTION:National Vietnam War Veterans Day\n\nAt Noon\, our friends at M
 ission BBQ are going to celebrate by feeding you one of their great sandwi
 ches for FREE. Don't miss the show starting at Noon Tomorrow! The KAVV Hon
 or Guard will be escorting the Colors at Noon.
CATEGORIES:Veteran Holiday's
LOCATION:Mission BBQ\, 6930 75th St\, Kenosha\, WI\, 53142\, United States
X-APPLE-STRUCTURED-LOCATION;VALUE=URI;X-ADDRESS=6930 75th St\, Kenosha\, WI
 \, 53142\, United States;X-APPLE-RADIUS=100;X-TITLE=Mission BBQ:geo:0,0
END:VEVENT
BEGIN:VTIMEZONE
TZID:America/Chicago
X-LIC-LOCATION:America/Chicago
BEGIN:DAYLIGHT
DTSTART:20210314T030000
TZOFFSETFROM:-0600
TZOFFSETTO:-0500
TZNAME:CDT
END:DAYLIGHT
END:VTIMEZONE
END:VCALENDAR